View In:
ArcGIS JavaScript
ArcGIS Online Map Viewer
ArcGIS Earth
ArcMap
View Footprint In:
ArcGIS Online Map Viewer
Service Description: This elevation data is derived from high resolution Lidar data collected in 2015 and 2016. This data is only looking at the bare earth returns. It only covers the private lands and largely leaves out the Federal Public Lands.
The mosaic dataset is in WGS 84 (meters) so the source mosaic dataset Z value was changed to meters.
3.456 meter resolution
Name: Elevation/R_MasterLidarDEM_Aspect2
Description: This elevation data is derived from high resolution Lidar data collected in 2015 and 2016. This data is only looking at the bare earth returns. It only covers the private lands and largely leaves out the Federal Public Lands.
The mosaic dataset is in WGS 84 (meters) so the source mosaic dataset Z value was changed to meters.
3.456 meter resolution
Single Fused Map Cache: false
Extent:
XMin: -1.19863019903E7
YMin: 4854113.197905333
XMax: -1.1881590179276377E7
YMax: 4987010.530899999
Spatial Reference: 102100
(3857)
Initial Extent:
XMin: -1.19863019903E7
YMin: 4854113.197905333
XMax: -1.1881590179276377E7
YMax: 4987010.530899999
Spatial Reference: 102100
(3857)
Full Extent:
XMin: -1.19863019903E7
YMin: 4854113.197905333
XMax: -1.1881590179276377E7
YMax: 4987010.530899999
Spatial Reference: 102100
(3857)
Pixel Size X: 1.8288036576073274
Pixel Size Y: 1.8288036576073148
Band Count: 1
Pixel Type: F32
RasterFunction Infos: {"rasterFunctionInfos": [{
"name": "None",
"description": "A No-Op Function.",
"help": ""
}]}
Mensuration Capabilities: Basic
Has Histograms: true
Has Colormap: false
Has Multi Dimensions : false
Rendering Rule:
Min Scale: 0
Max Scale: 0
Copyright Text: Colorado Water Conservation Board (CWCB) was the project coordinator for collecting the Lidar data.Routt County GIS is housing the data and sharing the derived data.
Service Data Type: esriImageServiceDataTypeGeneric
Min Values: 1860.4686279296875
Max Values: 3378.0341796875
Mean Values: 2301.239672537875
Standard Deviation Values: 272.77832668326414
Object ID Field: OBJECTID
Fields:
-
OBJECTID
(
type: esriFieldTypeOID, alias: OBJECTID
)
-
Shape
(
type: esriFieldTypeGeometry, alias: Shape
)
-
Name
(
type: esriFieldTypeString, alias: Name, length: 200
)
-
MinPS
(
type: esriFieldTypeDouble, alias: MinPS
)
-
MaxPS
(
type: esriFieldTypeDouble, alias: MaxPS
)
-
LowPS
(
type: esriFieldTypeDouble, alias: LowPS
)
-
HighPS
(
type: esriFieldTypeDouble, alias: HighPS
)
-
Category
(
type: esriFieldTypeInteger, alias: Category
, Coded Values:
[0: Unknown]
, [1: Primary]
, [2: Overview]
, ...6 more...
)
-
Tag
(
type: esriFieldTypeString, alias: Tag, length: 100
)
-
GroupName
(
type: esriFieldTypeString, alias: GroupName, length: 100
)
-
ProductName
(
type: esriFieldTypeString, alias: ProductName, length: 100
)
-
CenterX
(
type: esriFieldTypeDouble, alias: CenterX
)
-
CenterY
(
type: esriFieldTypeDouble, alias: CenterY
)
-
ZOrder
(
type: esriFieldTypeInteger, alias: ZOrder
)
-
Horiz_CE90_m
(
type: esriFieldTypeSingle, alias: Horiz_CE90_m
)
-
Vert_LE90_m
(
type: esriFieldTypeSingle, alias: Vert_LE90_m
)
-
Source
(
type: esriFieldTypeString, alias: Source, length: 50
)
-
Best
(
type: esriFieldTypeSingle, alias: Best
)
-
Date
(
type: esriFieldTypeDate, alias: Date, length: 8
)
-
Shape_Length
(
type: esriFieldTypeDouble, alias: Shape_Length
)
-
Shape_Area
(
type: esriFieldTypeDouble, alias: Shape_Area
)
-
Version
(
type: esriFieldTypeString, alias: Version, length: 20
)
-
PointCount
(
type: esriFieldTypeDouble, alias: Point Count
)
-
PointSpacing
(
type: esriFieldTypeDouble, alias: Point Spacing
)
-
ZMin
(
type: esriFieldTypeDouble, alias: ZMin
)
-
ZMax
(
type: esriFieldTypeDouble, alias: ZMax
)
Default Mosaic Method: ByAttribute
Allowed Mosaic Methods: ByAttribute,NorthWest,Center,LockRaster,Nadir,Viewpoint,None
SortField: Best
SortValue: 0
Mosaic Operator: First
Default Compression Quality: 10000
Default Resampling Method: Bilinear
Max Record Count: 1000
Max Image Height: 4100
Max Image Width: 15000
Max Download Image Count: 20
Max Mosaic Image Count: 20
Allow Raster Function: true
Allow Copy: true
Allow Analysis: true
Allow Compute TiePoints: false
Supports Statistics: true
Supports Advanced Queries: true
Use StandardizedQueries: true
Raster Type Infos:
Name: Raster Dataset
Description: Supports all ArcGIS Raster Datasets
Help:
Has Raster Attribute Table: false
Edit Fields Info: null
Ownership Based AccessControl For Rasters: null
Child Resources:
Info
Histograms
Statistics
Key Properties
Legend
Raster Function Infos
Supported Operations:
Export Image
Query
Identify
Measure
Compute Histograms
Compute Statistics Histograms
Get Samples
Compute Class Statistics
Query Boundary
Compute Pixel Location
Compute Angles
Validate
Project