View In:
ArcGIS JavaScript
ArcGIS Online Map Viewer
ArcGIS Earth
ArcMap
View Footprint In:
ArcGIS Online Map Viewer
Service Description: This slope data is covers all of Routt County. The source data is low resolution.
The mosaic dataset is in WGS 84 (meters). The slope value is in percent, 0 - 100.
57.6 meter resolution
Name: Elevation/R_MasterLidarDEM_Slope_percent
Description: This slope data is covers all of Routt County. The source data is low resolution.
The mosaic dataset is in WGS 84 (meters). The slope value is in percent, 0 - 100.
57.6 meter resolution
Single Fused Map Cache: false
Extent:
XMin: -1.19863019903E7
YMin: 4854113.197905333
XMax: -1.1881590179276377E7
YMax: 4987010.530899999
Spatial Reference: 102100
(3857)
Initial Extent:
XMin: -1.19863019903E7
YMin: 4854113.197905333
XMax: -1.1881590179276377E7
YMax: 4987010.530899999
Spatial Reference: 102100
(3857)
Full Extent:
XMin: -1.19863019903E7
YMin: 4854113.197905333
XMax: -1.1881590179276377E7
YMax: 4987010.530899999
Spatial Reference: 102100
(3857)
Pixel Size X: 1.8288036576073274
Pixel Size Y: 1.8288036576073148
Band Count: 3
Pixel Type: U8
RasterFunction Infos: {"rasterFunctionInfos": [{
"name": "None",
"description": "",
"help": ""
}]}
Mensuration Capabilities: None
Has Histograms: false
Has Colormap: false
Has Multi Dimensions : false
Rendering Rule:
Min Scale: 0
Max Scale: 0
Copyright Text: Routt County GIS is housing the data and sharing the derived data.
Service Data Type: esriImageServiceDataTypeRGB
Min Values: N/A
Max Values: N/A
Mean Values: N/A
Standard Deviation Values: N/A
Object ID Field:
Fields:
None
Default Mosaic Method: Center
Allowed Mosaic Methods:
SortField:
SortValue: null
Mosaic Operator: First
Default Compression Quality: 75
Default Resampling Method: Bilinear
Max Record Count: null
Max Image Height: 4100
Max Image Width: 15000
Max Download Image Count: null
Max Mosaic Image Count: null
Allow Raster Function: true
Allow Copy: true
Allow Analysis: true
Allow Compute TiePoints: false
Supports Statistics: false
Supports Advanced Queries: false
Use StandardizedQueries: true
Raster Type Infos:
Name: Raster Dataset
Description: Supports all ArcGIS Raster Datasets
Help:
Has Raster Attribute Table: false
Edit Fields Info: null
Ownership Based AccessControl For Rasters: null
Child Resources:
Info
Statistics
Key Properties
Legend
Raster Function Infos
Supported Operations:
Export Image
Identify
Measure
Compute Histograms
Compute Statistics Histograms
Get Samples
Compute Class Statistics
Query Boundary
Compute Pixel Location
Compute Angles
Validate
Project