View In:
ArcGIS JavaScript
ArcGIS Online Map Viewer
ArcGIS Earth
ArcMap
View Footprint In:
ArcGIS Online Map Viewer
Service Description: This hillshade covers all of Routt County. The source data is low resolution.
The mosaic dataset is in WGS 84 (meters).
57.6 meter resolution
Name: Elevation/R_MasterLowResDEM_Hillshade
Description: This hillshade covers all of Routt County. The source data is low resolution.
The mosaic dataset is in WGS 84 (meters).
57.6 meter resolution
Single Fused Map Cache: false
Extent:
XMin: -1.19716297052E7
YMin: 4839254.572665176
XMax: -1.1847972097884785E7
YMax: 5025121.9843999995
Spatial Reference: 102100
(3857)
Initial Extent:
XMin: -1.19716297052E7
YMin: 4839254.572665176
XMax: -1.1847972097884785E7
YMax: 5025121.9843999995
Spatial Reference: 102100
(3857)
Full Extent:
XMin: -1.19716297052E7
YMin: 4839254.572665176
XMax: -1.1847972097884785E7
YMax: 5025121.9843999995
Spatial Reference: 102100
(3857)
Pixel Size X: 30.48006096012185
Pixel Size Y: 30.480060960121865
Band Count: 1
Pixel Type: U8
RasterFunction Infos: {"rasterFunctionInfos": [{
"name": "None",
"description": "A No-Op Function.",
"help": ""
}]}
Mensuration Capabilities: None
Has Histograms: true
Has Colormap: false
Has Multi Dimensions : false
Rendering Rule:
Min Scale: 0
Max Scale: 0
Copyright Text: Routt County GIS is housing the data and sharing the derived data.
Service Data Type: esriImageServiceDataTypeProcessed
Min Values: 6171.72998046875
Max Values: 12330.44921875
Mean Values: 8468.587960596953
Standard Deviation Values: 1201.9270538242681
Object ID Field: OBJECTID
Fields:
-
OBJECTID
(
type: esriFieldTypeOID, alias: OBJECTID
)
-
Shape
(
type: esriFieldTypeGeometry, alias: Shape
)
-
Name
(
type: esriFieldTypeString, alias: Name, length: 200
)
-
MinPS
(
type: esriFieldTypeDouble, alias: MinPS
)
-
MaxPS
(
type: esriFieldTypeDouble, alias: MaxPS
)
-
LowPS
(
type: esriFieldTypeDouble, alias: LowPS
)
-
HighPS
(
type: esriFieldTypeDouble, alias: HighPS
)
-
Category
(
type: esriFieldTypeInteger, alias: Category
, Coded Values:
[0: Unknown]
, [1: Primary]
, [2: Overview]
, ...6 more...
)
-
Tag
(
type: esriFieldTypeString, alias: Tag, length: 100
)
-
GroupName
(
type: esriFieldTypeString, alias: GroupName, length: 100
)
-
ProductName
(
type: esriFieldTypeString, alias: ProductName, length: 100
)
-
CenterX
(
type: esriFieldTypeDouble, alias: CenterX
)
-
CenterY
(
type: esriFieldTypeDouble, alias: CenterY
)
-
ZOrder
(
type: esriFieldTypeInteger, alias: ZOrder
)
-
Horiz_CE90_m
(
type: esriFieldTypeSingle, alias: Horiz_CE90_m
)
-
Vert_LE90_m
(
type: esriFieldTypeSingle, alias: Vert_LE90_m
)
-
Source
(
type: esriFieldTypeString, alias: Source, length: 50
)
-
Best
(
type: esriFieldTypeSingle, alias: Best
)
-
Date
(
type: esriFieldTypeDate, alias: Date, length: 8
)
-
Shape_Length
(
type: esriFieldTypeDouble, alias: Shape_Length
)
-
Shape_Area
(
type: esriFieldTypeDouble, alias: Shape_Area
)
Default Mosaic Method: ByAttribute
Allowed Mosaic Methods: ByAttribute,NorthWest,Center,LockRaster,Nadir,Viewpoint,None
SortField: Best
SortValue: 0
Mosaic Operator: First
Default Compression Quality: 75
Default Resampling Method: Bilinear
Max Record Count: 1000
Max Image Height: 4100
Max Image Width: 15000
Max Download Image Count: 20
Max Mosaic Image Count: 20
Allow Raster Function: true
Allow Copy: true
Allow Analysis: true
Allow Compute TiePoints: false
Supports Statistics: true
Supports Advanced Queries: true
Use StandardizedQueries: true
Raster Type Infos:
Name: Raster Dataset
Description: Supports all ArcGIS Raster Datasets
Help:
Has Raster Attribute Table: false
Edit Fields Info: null
Ownership Based AccessControl For Rasters: null
Child Resources:
Info
Histograms
Statistics
Key Properties
Legend
Raster Function Infos
Supported Operations:
Export Image
Query
Identify
Compute Histograms
Compute Statistics Histograms
Get Samples
Compute Class Statistics
Query Boundary
Compute Pixel Location
Compute Angles
Validate
Project