View In:
ArcGIS JavaScript
ArcGIS Online Map Viewer
ArcGIS Earth
ArcMap
View Footprint In:
ArcGIS Online Map Viewer
Service Description: This is the 2009 Routt National Forest Visitor Map. This map is not for public use.
Name: RastersMisc/RouttNFVisitormap09
Description: This is the 2009 Routt National Forest Visitor Map. This map is not for public use.
Single Fused Map Cache: false
Extent:
XMin: -1.19808396772E7
YMin: 4817639.034181
XMax: -1.1784344816927E7
YMax: 5012881.985099999
Spatial Reference: 102100
(3857)
Initial Extent:
XMin: -1.19808396772E7
YMin: 4817639.034181
XMax: -1.1784344816927E7
YMax: 5012881.985099999
Spatial Reference: 102100
(3857)
Full Extent:
XMin: -1.19808396772E7
YMin: 4817639.034181
XMax: -1.1784344816927E7
YMax: 5012881.985099999
Spatial Reference: 102100
(3857)
Pixel Size X: 10.981660999999992
Pixel Size Y: 10.981660999999972
Band Count: 3
Pixel Type: F32
RasterFunction Infos: {"rasterFunctionInfos": [{
"name": "None",
"description": "A No-Op Function.",
"help": ""
}]}
Mensuration Capabilities: Basic
Has Histograms: true
Has Colormap: false
Has Multi Dimensions : false
Rendering Rule:
Min Scale: 0
Max Scale: 0
Copyright Text: US Forest Service, Routt National Forest
Service Data Type: esriImageServiceDataTypeGeneric
Min Values: 11.661139488220215, 17.81488800048828, 17.801910400390625
Max Values: 255, 255, 255
Mean Values: 212.43894389412014, 223.8798768656712, 213.35652086618612
Standard Deviation Values: 31.31197065410377, 22.697246560768907, 29.671755112997793
Object ID Field: OBJECTID
Fields:
-
OBJECTID
(
type: esriFieldTypeOID, alias: OBJECTID
)
-
Shape
(
type: esriFieldTypeGeometry, alias: Shape
)
-
Name
(
type: esriFieldTypeString, alias: Name, length: 200
)
-
MinPS
(
type: esriFieldTypeDouble, alias: MinPS
)
-
MaxPS
(
type: esriFieldTypeDouble, alias: MaxPS
)
-
LowPS
(
type: esriFieldTypeDouble, alias: LowPS
)
-
HighPS
(
type: esriFieldTypeDouble, alias: HighPS
)
-
Category
(
type: esriFieldTypeInteger, alias: Category
, Coded Values:
[0: Unknown]
, [1: Primary]
, [2: Overview]
, ...6 more...
)
-
Tag
(
type: esriFieldTypeString, alias: Tag, length: 100
)
-
GroupName
(
type: esriFieldTypeString, alias: GroupName, length: 100
)
-
ProductName
(
type: esriFieldTypeString, alias: ProductName, length: 100
)
-
CenterX
(
type: esriFieldTypeDouble, alias: CenterX
)
-
CenterY
(
type: esriFieldTypeDouble, alias: CenterY
)
-
ZOrder
(
type: esriFieldTypeInteger, alias: ZOrder
)
-
Horiz_CE90_m
(
type: esriFieldTypeSingle, alias: Horiz_CE90_m
)
-
Vert_LE90_m
(
type: esriFieldTypeSingle, alias: Vert_LE90_m
)
-
Source
(
type: esriFieldTypeString, alias: Source, length: 50
)
-
Best
(
type: esriFieldTypeSingle, alias: Best
)
-
Date
(
type: esriFieldTypeDate, alias: Date, length: 8
)
-
Shape_Length
(
type: esriFieldTypeDouble, alias: Shape_Length
)
-
Shape_Area
(
type: esriFieldTypeDouble, alias: Shape_Area
)
Default Mosaic Method: ByAttribute
Allowed Mosaic Methods: ByAttribute,NorthWest,Center,LockRaster,Nadir,Viewpoint,None
SortField: Best
SortValue: 0
Mosaic Operator: First
Default Compression Quality: 10000
Default Resampling Method: Bilinear
Max Record Count: 1000
Max Image Height: 4100
Max Image Width: 15000
Max Download Image Count: 20
Max Mosaic Image Count: 20
Allow Raster Function: true
Allow Copy: true
Allow Analysis: true
Allow Compute TiePoints: false
Supports Statistics: true
Supports Advanced Queries: true
Use StandardizedQueries: true
Raster Type Infos:
Name: Raster Dataset
Description: Supports all ArcGIS Raster Datasets
Help:
Has Raster Attribute Table: false
Edit Fields Info: null
Ownership Based AccessControl For Rasters: null
Child Resources:
Info
Histograms
Statistics
Key Properties
Legend
Raster Function Infos
Supported Operations:
Export Image
Query
Identify
Measure
Compute Histograms
Compute Statistics Histograms
Get Samples
Compute Class Statistics
Query Boundary
Compute Pixel Location
Compute Angles
Validate
Project